BEGIN:VCALENDAR
VERSION:2.0
PRODID:-//Saab Club of North America - ECPv6.13.2.1//NONSGML v1.0//EN
CALSCALE:GREGORIAN
METHOD:PUBLISH
X-WR-CALNAME:Saab Club of North America
X-ORIGINAL-URL:https://saabclub.com
X-WR-CALDESC:Events for Saab Club of North America
REFRESH-INTERVAL;VALUE=DURATION:PT1H
X-Robots-Tag:noindex
X-PUBLISHED-TTL:PT1H
BEGIN:VTIMEZONE
TZID:UTC
BEGIN:STANDARD
TZOFFSETFROM:+0000
TZOFFSETTO:+0000
TZNAME:UTC
DTSTART:20260101T000000
END:STANDARD
END:VTIMEZONE
BEGIN:VEVENT
DTSTART;TZID=UTC:20260117T090000
DTEND;TZID=UTC:20260117T130000
DTSTAMP:20260421T182615
CREATED:20260108T042557Z
LAST-MODIFIED:20260108T042618Z
UID:39316-1768640400-1768654800@saabclub.com
SUMMARY:Eurofest St Augustine
DESCRIPTION:
URL:https://saabclub.com/event/eurofest-st-augustine/
LOCATION:Car Museum of St. Augustine\, 4730 US Rte 1\, Augustine\, FL\, United States
END:VEVENT
END:VCALENDAR