BEGIN:VCALENDAR
VERSION:2.0
PRODID:-//Saab Club of North America - ECPv6.13.2.1//NONSGML v1.0//EN
CALSCALE:GREGORIAN
METHOD:PUBLISH
X-WR-CALNAME:Saab Club of North America
X-ORIGINAL-URL:https://saabclub.com
X-WR-CALDESC:Events for Saab Club of North America
REFRESH-INTERVAL;VALUE=DURATION:PT1H
X-Robots-Tag:noindex
X-PUBLISHED-TTL:PT1H
BEGIN:VTIMEZONE
TZID:UTC
BEGIN:STANDARD
TZOFFSETFROM:+0000
TZOFFSETTO:+0000
TZNAME:UTC
DTSTART:20260101T000000
END:STANDARD
END:VTIMEZONE
BEGIN:VTIMEZONE
TZID:America/Los_Angeles
BEGIN:DAYLIGHT
TZOFFSETFROM:-0800
TZOFFSETTO:-0700
TZNAME:PDT
DTSTART:20260308T100000
END:DAYLIGHT
BEGIN:STANDARD
TZOFFSETFROM:-0700
TZOFFSETTO:-0800
TZNAME:PST
DTSTART:20261101T090000
END:STANDARD
END:VTIMEZONE
BEGIN:VEVENT
DTSTART;VALUE=DATE:20260304
DTEND;VALUE=DATE:20260401
DTSTAMP:20260422T011036
CREATED:20260304T014325Z
LAST-MODIFIED:20260304T020822Z
UID:39810-1772582400-1775001599@saabclub.com
SUMMARY:The World of Saab @ AACA
DESCRIPTION:Members of the Saab Club of North America (SCNA) can experience America’s Transportation Experience at the AACA Museum (American Automobile Club of America) at half price through March 31\, 2026.\n\nThanks to arrangements made by the Central Penn Saab Club (CPSC)\, both CPSC and SCNA members will receive 50 percent off museum admission. The offer provides Saab enthusiasts the opportunity to explore a stunning collection of Saab vehicles currently on display in the Williams-Clyne Gallery\, along with hundreds of other historic automobiles and transportation artifacts throughout the museum.\n\n\n\nThe AACA Museum features rotating exhibits\, a growing permanent collection\, and engaging interactive displays. Every vehicle on view has been donated or loaned by collectors\, restorers\, and automotive enthusiasts from across the country\, making the museum a true celebration of transportation history.\n\n\n\nTo receive the discount\, members should present their CPSC or SCNA membership credentials at the admission desk.\n\n\nSubmit your event!
URL:https://saabclub.com/event/the-world-of-saab-aaca/
LOCATION:AACA Museum\, 161 Museum Drive\, Hummelstown\, PA\, 17036\, United States
END:VEVENT
BEGIN:VEVENT
DTSTART;TZID=America/Los_Angeles:20260307T110000
DTEND;TZID=America/Los_Angeles:20260307T130000
DTSTAMP:20260422T011036
CREATED:20260305T164422Z
LAST-MODIFIED:20260305T164422Z
UID:39853-1772881200-1772888400@saabclub.com
SUMMARY:Cars & Swedish Meatballs
DESCRIPTION:
URL:https://saabclub.com/event/cars-swedish-meatballs/
LOCATION:Open Bay Garage\, 1055 Andover Park E\, Tukwila\, WA\, 98188\, United States
END:VEVENT
BEGIN:VEVENT
DTSTART;VALUE=DATE:20260328
DTEND;VALUE=DATE:20260329
DTSTAMP:20260422T011036
CREATED:20260108T043221Z
LAST-MODIFIED:20260108T043221Z
UID:39323-1774656000-1774742399@saabclub.com
SUMMARY:6th Annual Virginia Saab "Meet and Greet"
DESCRIPTION:
URL:https://saabclub.com/event/6th-annual-virginia-saab-meet-and-greet/
LOCATION:Whole Greens of VA\, Spotsylvania Courthouse\, VA
END:VEVENT
BEGIN:VEVENT
DTSTART;TZID=UTC:20260329T140000
DTEND;TZID=UTC:20260329T170000
DTSTAMP:20260422T011036
CREATED:20260226T164532Z
LAST-MODIFIED:20260304T020917Z
UID:39642-1774792800-1774803600@saabclub.com
SUMMARY:Swedish Meet-Ball
DESCRIPTION:Come hang with the Saabs and Volvos! Parking is validated. \nSubmit your event!
URL:https://saabclub.com/event/swedish-meet-ball/
LOCATION:The Wild Colonial Tavern\, 250 S Water Street\, Providence\, RI\, United States
END:VEVENT
BEGIN:VEVENT
DTSTART;TZID=UTC:20260425T120000
DTEND;TZID=UTC:20260425T170000
DTSTAMP:20260422T011036
CREATED:20260319T034245Z
LAST-MODIFIED:20260319T034245Z
UID:39888-1777118400-1777136400@saabclub.com
SUMMARY:SAAB MEET! Flips Patio Grill and DFW Car & Toy Museum
DESCRIPTION:SAAB MEET DFW!\nJoin us to talk about the upcoming annual SAAB OWNERS CONVENTION being held this year in Huntsville\, AL! We’ll grab some patio flair lunch and then head down the street to the amazing museum. We’ll tour the car museum from 2-5pm (self-paced).\nDetails about the museum: Free admission! Located in Fort Worth the DFW Car and Toy Museum is a top Fort Worth attraction and a must-visit for tourists\, car enthusiasts\, and vintage toy collectors. Explore over 200 classic cars (INCLUDING SAABS) and 3\,000 rare toys\, from Tippco die-cast models to prewar wind-ups. Kid and pet-friendly! \nSponsored by SAAB Fans of Texas.
URL:https://saabclub.com/event/saab-meet-flips-patio-grill-and-dfw-car-toy-museum/
LOCATION:Flips Patio Grill\, 6613 Fossil Bluff Dr\, Forth Worth\, TX\, 76137\, United States
END:VEVENT
BEGIN:VEVENT
DTSTART;TZID=UTC:20260503T090000
DTEND;TZID=UTC:20260503T130000
DTSTAMP:20260422T011036
CREATED:20260304T025245Z
LAST-MODIFIED:20260304T025251Z
UID:39826-1777798800-1777813200@saabclub.com
SUMMARY:Saabs @ Lime Rock — FCP Euro Meet
DESCRIPTION:An all-are-welcome casual gathering of automotive enthusiasts hosted by FCP Euro at Lime Rock Park in Lakeville\, CT. \n\n\n\n\nFeatured Marque: Volvo & SAAB parking on track. \nHosted by FCP Euro\, the Sunday Motoring Meet series brings like-minded enthusiasts together to celebrate European cars and culture. It’s not just another Cars & Coffee\, it’s a casual gathering where you can see incredible builds and connect with your favorite automotive brands. \nHere are a few key things to know about attending a Sunday Motoring Meet: \n\nThey are free of charge for everyone – no gate fee\, no nothing.\nWe do require registration for all attendees.\nWhile these events focus on European cars – all makes\, models\, and enthusiasts are welcome to attend.\nThis is a family-friendly\, casual event. Absolutely no speeding\, revving\, 2-step\, launch control\, or intentional crackle tunes will be tolerated. We must remain good neighbors and respectful community members while driving in and around the facility. Any reckless behavior will result in a permanent ban from future Sunday Motoring Meets. Additionally\, please be aware that local law enforcement heavily patrols the area – speeding outside the facility will likely result in a ticket.
URL:https://saabclub.com/event/saabs-lime-rock-fcp-euro-meet/
LOCATION:Lime Rock Park\, 60 White Hollow Rd\, Salisbury\, CT\, 06039\, United States
END:VEVENT
BEGIN:VEVENT
DTSTART;VALUE=DATE:20260515
DTEND;VALUE=DATE:20260517
DTSTAMP:20260422T011036
CREATED:20260108T042837Z
LAST-MODIFIED:20260108T042837Z
UID:39320-1778803200-1778975999@saabclub.com
SUMMARY:SAABs@Carlisle
DESCRIPTION:
URL:https://saabclub.com/event/saabscarlisle/
LOCATION:Carlisle Fairgrounds\, 1000 Bryn Mawr Rd\, Carlisle\, PA\, United States
END:VEVENT
BEGIN:VEVENT
DTSTART;TZID=America/Los_Angeles:20260516T100000
DTEND;TZID=America/Los_Angeles:20260516T140000
DTSTAMP:20260422T011036
CREATED:20260422T002709Z
LAST-MODIFIED:20260422T002709Z
UID:40031-1778925600-1778940000@saabclub.com
SUMMARY:Northwest SAAB Owners Club Annual Meeting
DESCRIPTION:Hello everyone! The time has come for the NWSOC annual owners meeting! This year we will be discussing club events\, how we want to continue moving forward as a club and future events! I cannot wait to see all of you again! NWSOC owners meeting for Northwest SAAB owners Club Members will be as follows\n10:00 am-11:20 am – Parking lot tire kicking\n11:30 am-12:00 pm Griot’s Product Demonstration\n12:00 pm- 1:00 pm -Lunch. The Club buys pizza and members bring a dessert to share (if you eat dessert)\n1:00 pm- 2:00 pm – Club Business Meeting. Help determine the course of the year ahead and shape the destiny of our club. \nI hope to see you guys again this year and looking forward to seeing all of your SAABs!
URL:https://saabclub.com/event/northwest-saab-owners-club-annual-meeting/
LOCATION:Griot’s Garage\, 3333 S 38th St\, Tacoma\, WA\, 98409\, United States
END:VEVENT
BEGIN:VEVENT
DTSTART;VALUE=DATE:20260605
DTEND;VALUE=DATE:20260607
DTSTAMP:20260422T011036
CREATED:20260304T180204Z
LAST-MODIFIED:20260304T180204Z
UID:39834-1780617600-1780790399@saabclub.com
SUMMARY:11th Annual Endless Mountains Vintage Saab Jamboree
DESCRIPTION:
URL:https://saabclub.com/event/11th-annual-endless-mountains-vintage-saab-jamboree/
LOCATION:58 Snedeker Rd\, 58 Snedeker Rd\, Clifford\, PA\, 18470\, United States
END:VEVENT
BEGIN:VEVENT
DTSTART;TZID=UTC:20260620T090000
DTEND;TZID=UTC:20260620T150000
DTSTAMP:20260422T011036
CREATED:20260210T040021Z
LAST-MODIFIED:20260210T040021Z
UID:39534-1781946000-1781967600@saabclub.com
SUMMARY:Saab Enthusiasts at the Gilmore Car Museum
DESCRIPTION:Join the West Michigan Saab Owners Club (as they come out in force to outdo the competition on attendance) for a great show at the Gilmore Car Museum.
URL:https://saabclub.com/event/saab-enthusiasts-at-the-gilmore-car-museum/
LOCATION:Gilmore Car Museum\, 6365 Hickory Corners Road\, Hickory Corners\, MI\, United States
END:VEVENT
BEGIN:VEVENT
DTSTART;VALUE=DATE:20260712
DTEND;VALUE=DATE:20260713
DTSTAMP:20260422T011036
CREATED:20260304T030110Z
LAST-MODIFIED:20260304T030305Z
UID:39830-1783814400-1783900799@saabclub.com
SUMMARY:Saabs n Food in Oneonta
DESCRIPTION:This is an event for all vintages of Saabs\, and owners. Bring the kids. And food to pass around.
URL:https://saabclub.com/event/saabs-n-food-in-oneonta/
LOCATION:Ed and Cameron Lorenz\, 149 Balford Drive\, Oneonta\, NY\, 13820\, United States
END:VEVENT
BEGIN:VEVENT
DTSTART;VALUE=DATE:20260715
DTEND;VALUE=DATE:20260720
DTSTAMP:20260422T011036
CREATED:20260108T235255Z
LAST-MODIFIED:20260108T235259Z
UID:39361-1784073600-1784505599@saabclub.com
SUMMARY:43rd Annual Saab Owners Convention - SOC43
DESCRIPTION:
URL:https://saabclub.com/event/43rd-annual-saab-owners-convention-soc43/
LOCATION:Huntsville Marriott at the Space & Rocket Center\, 5 Tranquility Base\, Huntsville\, AL\, United States
END:VEVENT
BEGIN:VEVENT
DTSTART;VALUE=DATE:20260802
DTEND;VALUE=DATE:20260803
DTSTAMP:20260422T011036
CREATED:20260108T043541Z
LAST-MODIFIED:20260108T043541Z
UID:39327-1785628800-1785715199@saabclub.com
SUMMARY:1st Annual Fall Virginia Saab "Meet and Greet"
DESCRIPTION:
URL:https://saabclub.com/event/1st-annual-fall-virginia-saab-meet-and-greet/
LOCATION:Blue Ridge School\, 273 Mayo Dr\, St George\, VA\, United States
END:VEVENT
BEGIN:VEVENT
DTSTART;VALUE=DATE:20260807
DTEND;VALUE=DATE:20260810
DTSTAMP:20260422T011036
CREATED:20260108T043715Z
LAST-MODIFIED:20260108T043715Z
UID:39330-1786060800-1786319999@saabclub.com
SUMMARY:INTSAAB 2026
DESCRIPTION:
URL:https://saabclub.com/event/intsaab-2026/
LOCATION:Stockholm-Bro Park\, Stockholm\, Sweden
END:VEVENT
BEGIN:VEVENT
DTSTART;VALUE=DATE:20260813
DTEND;VALUE=DATE:20260816
DTSTAMP:20260422T011036
CREATED:20260304T180648Z
LAST-MODIFIED:20260304T180648Z
UID:39838-1786579200-1786838399@saabclub.com
SUMMARY:Eurofest Maggie Valley
DESCRIPTION:Hosted by the Carolina Saab Club and SCNA.
URL:https://saabclub.com/event/eurofest-maggie-valley/
LOCATION:Maggie Valley\, Maggie Valley\, NC\, United States
END:VEVENT
BEGIN:VEVENT
DTSTART;TZID=UTC:20260821T170000
DTEND;TZID=UTC:20260823T110000
DTSTAMP:20260422T011036
CREATED:20260413T203644Z
LAST-MODIFIED:20260413T203644Z
UID:40003-1787331600-1787482800@saabclub.com
SUMMARY:Midwest Saab Muster
DESCRIPTION:Join us in the beautiful South Central region of Wisconsin this August.\nPlanned activities for Saturday include:\n• Visiting the Midwest Microcar Museum in Mazomanie\, Wisconsin.\n• A scenic drive on the twisty roads of the Driftless Area.\n• A swap meet in the parking lot of the Round Barn Lodge.\n• Dinner at your choice of restaurants in the area including an onsite\nMexican restaurant and Arthur’s Supper Club\, a staple in Spring\nGreen since 1968.\n• Make your room reservations soon\, and let them know you’re with\nthe Saab group to get our rate.
URL:https://saabclub.com/event/midwest-saab-muster/
LOCATION:The Round Barn Lodge\, E4830 US-14\, Spring Green\, WI\, 53588\, United States
END:VEVENT
BEGIN:VEVENT
DTSTART;VALUE=DATE:20260920
DTEND;VALUE=DATE:20260921
DTSTAMP:20260422T011036
CREATED:20260304T180919Z
LAST-MODIFIED:20260304T181017Z
UID:39841-1789862400-1789948799@saabclub.com
SUMMARY:Eurofest at the Farm
DESCRIPTION:Hosted by Southeast Euro Motorsports & the Carolina Saab Club.
URL:https://saabclub.com/event/eurofest-at-the-farm/
LOCATION:Farmington Dragway\, 2992 NC-801\, Mocksville\, NC\, United States
END:VEVENT
END:VCALENDAR